BEGIN:VCALENDAR
VERSION:2.0
PRODID:-//Rise and Shine Youth Leadership - ECPv6.15.16.1//NONSGML v1.0//EN
CALSCALE:GREGORIAN
METHOD:PUBLISH
X-WR-CALNAME:Rise and Shine Youth Leadership
X-ORIGINAL-URL:https://rsyouthleadership.org
X-WR-CALDESC:Events for Rise and Shine Youth Leadership
REFRESH-INTERVAL;VALUE=DURATION:PT1H
X-Robots-Tag:noindex
X-PUBLISHED-TTL:PT1H
BEGIN:VTIMEZONE
TZID:America/Los_Angeles
BEGIN:DAYLIGHT
TZOFFSETFROM:-0800
TZOFFSETTO:-0700
TZNAME:PDT
DTSTART:20250309T100000
END:DAYLIGHT
BEGIN:STANDARD
TZOFFSETFROM:-0700
TZOFFSETTO:-0800
TZNAME:PST
DTSTART:20251102T090000
END:STANDARD
BEGIN:DAYLIGHT
TZOFFSETFROM:-0800
TZOFFSETTO:-0700
TZNAME:PDT
DTSTART:20260308T100000
END:DAYLIGHT
BEGIN:STANDARD
TZOFFSETFROM:-0700
TZOFFSETTO:-0800
TZNAME:PST
DTSTART:20261101T090000
END:STANDARD
BEGIN:DAYLIGHT
TZOFFSETFROM:-0800
TZOFFSETTO:-0700
TZNAME:PDT
DTSTART:20270314T100000
END:DAYLIGHT
BEGIN:STANDARD
TZOFFSETFROM:-0700
TZOFFSETTO:-0800
TZNAME:PST
DTSTART:20271107T090000
END:STANDARD
END:VTIMEZONE
BEGIN:VEVENT
DTSTART;TZID=America/Los_Angeles:20260314T114500
DTEND;TZID=America/Los_Angeles:20260314T124500
DTSTAMP:20260423T031330
CREATED:20260309T193050Z
LAST-MODIFIED:20260309T194914Z
UID:8150-1773488700-1773492300@rsyouthleadership.org
SUMMARY:Adopt-A-Street
DESCRIPTION:RISE SF is now participating in San Francisco’s Adopt-A-Street Program and currently adopts 3 blocks along West Portal Ave. All RISE members are encouraged to participate. Activities involve keeping this street clean\, which includes picking up trash and fallen leaves. Supplies are provided. \nGoal/Purpose:\n• Keep a local San Francisco street clean of litter and debris\n• Make an impact on your local community by creating a cleaner urban space for fellow residents\, visitors\, and local businesses \nLocation:\nWest Portal Ave from Ulloa St to 15th St (Meeting Point: West Portal Branch Library) \nEvents to Sign Up: March 14\, 2026 from 10:45am-12:45pm \nVolunteer Hours:\n3 hours for every event \nPlease use this link to sign up: tinyurl.com/RegisterAdoptAStreet
URL:https://rsyouthleadership.org/event/adopt-a-street-2/
LOCATION:West Portal Library\, West Portal Ave from Ulloa street to 15th Street\, San Francisco\, California\, 94588\, United States
ATTACH;FMTTYPE=image/jpeg:https://rsyouthleadership.org/wp-content/uploads/2026/03/b88b9b98c8bf0057983de256388af59f.jpg
END:VEVENT
END:VCALENDAR