BEGIN:VCALENDAR
VERSION:2.0
PRODID:-//Rise and Shine Youth Leadership - ECPv6.15.16.1//NONSGML v1.0//EN
CALSCALE:GREGORIAN
METHOD:PUBLISH
X-WR-CALNAME:Rise and Shine Youth Leadership
X-ORIGINAL-URL:https://rsyouthleadership.org
X-WR-CALDESC:Events for Rise and Shine Youth Leadership
REFRESH-INTERVAL;VALUE=DURATION:PT1H
X-Robots-Tag:noindex
X-PUBLISHED-TTL:PT1H
BEGIN:VTIMEZONE
TZID:America/Los_Angeles
BEGIN:DAYLIGHT
TZOFFSETFROM:-0800
TZOFFSETTO:-0700
TZNAME:PDT
DTSTART:20250309T100000
END:DAYLIGHT
BEGIN:STANDARD
TZOFFSETFROM:-0700
TZOFFSETTO:-0800
TZNAME:PST
DTSTART:20251102T090000
END:STANDARD
BEGIN:DAYLIGHT
TZOFFSETFROM:-0800
TZOFFSETTO:-0700
TZNAME:PDT
DTSTART:20260308T100000
END:DAYLIGHT
BEGIN:STANDARD
TZOFFSETFROM:-0700
TZOFFSETTO:-0800
TZNAME:PST
DTSTART:20261101T090000
END:STANDARD
BEGIN:DAYLIGHT
TZOFFSETFROM:-0800
TZOFFSETTO:-0700
TZNAME:PDT
DTSTART:20270314T100000
END:DAYLIGHT
BEGIN:STANDARD
TZOFFSETFROM:-0700
TZOFFSETTO:-0800
TZNAME:PST
DTSTART:20271107T090000
END:STANDARD
END:VTIMEZONE
BEGIN:VEVENT
DTSTART;TZID=America/Los_Angeles:20260329T110000
DTEND;TZID=America/Los_Angeles:20260329T123000
DTSTAMP:20260423T031252
CREATED:20260326T000457Z
LAST-MODIFIED:20260326T003926Z
UID:8350-1774782000-1774787400@rsyouthleadership.org
SUMMARY:Soaps for Change
DESCRIPTION:Dear volunteers\, our handmade soap-making event is back! On Sunday\, March 29\, we will continue making and packaging handmade soaps.\nThe soaps will later be sold to raise funds to support children in need. \nTime:\nSunday\, March 29\, 11:00 AM – 12:30 PM \nAddress:\nPleasanton CA 94566 \nParticipants must be RISE members. If you are not yet a member\, you can register using the link below:：\nhttps://docs.google.com/forms/d/e/1FAIpQLScWP9JRlb3pWQNRW_Y3EE9HJUXCxkWoH4Eg_pqlQ2MXDjCqSQ/viewform?vc=0&c=0&w=1&flr=0 \nPlease complete and sign the Waiver Form in advance and bring it with you on the day of the event. \nVolunteer Hours: 3h\nPlease bring your volunteer log form and ask the lead parent to sign it after the event. \nIf you need a RISE T-shirt\, please let us know in advance. \nRegistration Link:\nhttps://www.signupgenius.com/go/10C084BADAE2BABF9C52-58841189-soap#/ \n🌹🌹Please join us and contribute to the community together!❤️❤️
URL:https://rsyouthleadership.org/event/soaps-for-change/
LOCATION:Pleasanton\, CA\, United States
ATTACH;FMTTYPE=image/jpeg:https://rsyouthleadership.org/wp-content/uploads/2026/02/18a95d8162e0217b25aa778799f616ea-e1774484334670.jpg
END:VEVENT
END:VCALENDAR