BEGIN:VCALENDAR
VERSION:2.0
PRODID:-//Rise and Shine Youth Leadership - ECPv6.15.16.1//NONSGML v1.0//EN
CALSCALE:GREGORIAN
METHOD:PUBLISH
X-ORIGINAL-URL:https://rsyouthleadership.org
X-WR-CALDESC:Events for Rise and Shine Youth Leadership
REFRESH-INTERVAL;VALUE=DURATION:PT1H
X-Robots-Tag:noindex
X-PUBLISHED-TTL:PT1H
BEGIN:VTIMEZONE
TZID:America/Los_Angeles
BEGIN:DAYLIGHT
TZOFFSETFROM:-0800
TZOFFSETTO:-0700
TZNAME:PDT
DTSTART:20250309T100000
END:DAYLIGHT
BEGIN:STANDARD
TZOFFSETFROM:-0700
TZOFFSETTO:-0800
TZNAME:PST
DTSTART:20251102T090000
END:STANDARD
BEGIN:DAYLIGHT
TZOFFSETFROM:-0800
TZOFFSETTO:-0700
TZNAME:PDT
DTSTART:20260308T100000
END:DAYLIGHT
BEGIN:STANDARD
TZOFFSETFROM:-0700
TZOFFSETTO:-0800
TZNAME:PST
DTSTART:20261101T090000
END:STANDARD
BEGIN:DAYLIGHT
TZOFFSETFROM:-0800
TZOFFSETTO:-0700
TZNAME:PDT
DTSTART:20270314T100000
END:DAYLIGHT
BEGIN:STANDARD
TZOFFSETFROM:-0700
TZOFFSETTO:-0800
TZNAME:PST
DTSTART:20271107T090000
END:STANDARD
END:VTIMEZONE
BEGIN:VEVENT
DTSTART;TZID=America/Los_Angeles:20260418T100000
DTEND;TZID=America/Los_Angeles:20260418T120000
DTSTAMP:20260423T031736
CREATED:20260324T230450Z
LAST-MODIFIED:20260324T231239Z
UID:8324-1776506400-1776513600@rsyouthleadership.org
SUMMARY:Rise Bottle Recycle Event
DESCRIPTION:Hello volunteers and parents\, \nOn Saturday\, April 18 at 10:00 AM\, we will go to the recycling center  to recycle bottles. \nYou are welcome to sign up for the delivery activity. This activity counts as 2 hours of volunteer service. Please add your name to the sign-up list below. \nChildren must be RISE members (see the group notice for the link). Both participating parents and children must complete the waiver and send it to us in advance. \nRecycling center address:\nRefund Recycle Center\n(925) 606-1435\n2680 Old First St.\,\nLivermore\, CA 94550
URL:https://rsyouthleadership.org/event/rise-bottle-recycle-activity/
LOCATION:Refund Recycle Center\, 2680 Old First St.\, Livermore\, CA\, 94550\, United States
END:VEVENT
BEGIN:VEVENT
DTSTART;TZID=America/Los_Angeles:20260425T103000
DTEND;TZID=America/Los_Angeles:20260425T120000
DTSTAMP:20260423T031736
CREATED:20260414T041635Z
LAST-MODIFIED:20260414T042758Z
UID:9121-1777113000-1777118400@rsyouthleadership.org
SUMMARY:Community Park Clean-Up
DESCRIPTION:Registration for RISE Community Park Clean-Up Volunteer Activity is now open! \nLet’s come together to beautify our community and give back! \nActivity Time:\nSaturday\, April 25\n10:30 AM – 12: 00 PM \nLocation of the event:\nFallon Sports Park – 4605 Lockhart Street\, Dublin\n(Upper Parking Lot) \nMap of the meet up location:\nhttps://maps.app.goo.gl/o2NW8tgnD8tUFftbA?g_st=awc \nDetails of the event:\nRemove litter from park and surrounding roads to beautify the community environment. Garbage will be placed in trash bags and placed in a park garbage bins. RISE provides litter picking tools and gloves. \nRegistration requirements:\nParticipants must be RISE members\nFor those who have not yet registered\, you can register as a RISE member via the following link:\nhttps://docs.google.com/forms/d/e/1FAIpQLScWP9JRlb3pWQNRW_Y3EE9HJUXCxkWoH4Eg_pqlQ2MXDjCqSQ/viewform \nWaiver Form (IMPORTANT):\nPlease complete and sign the Waiver Form in advance and hand it to the parent leads on the day of the event.\nBelow is the latest version of the Waiver Form\, which should be filled out by all volunteers (both parents and children). \nNumber of volunteer hours:\nA total of 3 hours\nPlease bring your volunteer form and ask the parent leads who are in charge to sign it after the event. Please arrive on time. \nDress Requirements:\nPlease try to wear a RISE volunteer T-shirt\nIf you need to buy\, please inform the size in advance. We will bring T-shirt for you on the day of the event. \nRegistration link:\nhttps://www.signupgenius.com/go/30E0D45A4AA2AA3FA7-62460135-community \nEveryone is welcome to sign up to participate. Let us all take action to care for the community!
URL:https://rsyouthleadership.org/event/community-park-cleanup-activity/
LOCATION:Fallon Sports Park\, 4605 Lockhart Street\, Dublin\, CA\, United States
END:VEVENT
BEGIN:VEVENT
DTSTART;TZID=America/Los_Angeles:20260509T110000
DTEND;TZID=America/Los_Angeles:20260509T123000
DTSTAMP:20260423T031736
CREATED:20260403T221513Z
LAST-MODIFIED:20260404T044640Z
UID:8747-1778324400-1778329800@rsyouthleadership.org
SUMMARY:Kids Against Hunger
DESCRIPTION:RISE Kids Against Hunger Volunteer Event on May 9th (Saturday) is now open for registration—first come\, first serve. \nSaturday\, May 9\, 2026\, 11:00 AM – 12:30 PM. Location: Pleasanton\, CA. Registration link: https://www.signupgenius.com/go/10C084BADAE2BABF9C52-63333608-kids#/ \nAll volunteers must be RISE members. If not registered yet\, please fill out the registration form. Please sign the new Waiver Form in advance and send it to us or bring it to us in person. No costs for volunteers! (RISE covers the expenses\, but you are welcome to donate and support RISE’s volunteer activities.) \nPlease sign the volunteer hour form (2 hours) and have it signed by the team leader. Please also try to wear RISE shirts. If you need to purchase one\, please inform us of the size\, and we will bring shirts. \nLet’s pack food together and show love for hungry children!
URL:https://rsyouthleadership.org/event/kids-against-hunger-2/
LOCATION:KAH Pleasanton\, 1258 Quarry Ln # H\,\, Pleasanton\,\, 94566\, United States
END:VEVENT
BEGIN:VEVENT
DTSTART;TZID=America/Los_Angeles:20260619T080000
DTEND;TZID=America/Los_Angeles:20260712T170000
DTSTAMP:20260423T031736
CREATED:20260412T210249Z
LAST-MODIFIED:20260412T235701Z
UID:9068-1781856000-1783875600@rsyouthleadership.org
SUMMARY:Alameda County Fair
DESCRIPTION:The 2026 Alameda County Fair is now recruiting volunteers! Join us for a fun\, family‑friendly experience while serving the community and earning official service hours and Awards. \n Event Dates\nJune 19 – July 12\, 2026\nVolunteer positions are limited and available on a first‑come\, first‑served basis. \n Volunteer Benefits\nVolunteers will receive: \n\nOfficial community service hours (including commute time)\nEligibility for the National Service Honor Award and other recognitions\nVolunteer appreciation items\, including:\n\nT‑shirt\, Hat\, Nylon bag\, Water bottle\nTwo free Alameda County Fair admission tickets\nFree parking on volunteer days\n\n\nVolunteers who complete 20 or more service hours on behalf of RISE will also be recognized by Rise and Shine Youth Leadership with an “Outstanding Volunteer Recognition Award”\n\nRegistration Instructions (Important): \n\n\n\nPlease follow the official Alameda County Fair volunteer registration process.\nWhen completing the registration form\, be sure to select “Rise and Shine Youth Leadership” as the referring organization to support our youth and community programs.\n\n\n\n Age Requirements\nVolunteers must be 12 years or older\nAges 12–15: must volunteer with a registered adult in the same shift\nAges 16 and above: good to go \n What to Expect\nThe Alameda County Fair offers a wide variety of attractions and activities\, including: \n\nFood and snacks\nRides and games\nPig races and small animal exhibits\nArts and crafts\nBotanical garden\nGuest services opportunities\nFireworks and drone shows\n\nThis is a fun\, educational\, and family‑friendly volunteer experience.
URL:https://rsyouthleadership.org/event/alameda-county-fair/
LOCATION:CA
ATTACH;FMTTYPE=application/pdf:https://rsyouthleadership.org/wp-content/uploads/2026/04/New-Volunteer-Community-Service-Flyer-1.pdf
END:VEVENT
END:VCALENDAR